BEGIN:VCALENDAR
VERSION:2.0
PRODID:-//Gemeinde Mainhausen - ECPv6.0.10//NONSGML v1.0//EN
CALSCALE:GREGORIAN
METHOD:PUBLISH
X-WR-CALNAME:Gemeinde Mainhausen
X-ORIGINAL-URL:https://kiju-mainhausen.de
X-WR-CALDESC:Veranstaltungen für Gemeinde Mainhausen
REFRESH-INTERVAL;VALUE=DURATION:PT1H
X-Robots-Tag:noindex
X-PUBLISHED-TTL:PT1H
BEGIN:VTIMEZONE
TZID:Europe/Berlin
BEGIN:DAYLIGHT
TZOFFSETFROM:+0100
TZOFFSETTO:+0200
TZNAME:CEST
DTSTART:20260329T010000
END:DAYLIGHT
BEGIN:STANDARD
TZOFFSETFROM:+0200
TZOFFSETTO:+0100
TZNAME:CET
DTSTART:20261025T010000
END:STANDARD
END:VTIMEZONE
BEGIN:VEVENT
DTSTART;TZID=Europe/Berlin:20260416T160000
DTEND;TZID=Europe/Berlin:20260416T190000
DTSTAMP:20260419T160756
CREATED:20250130T145927Z
LAST-MODIFIED:20250130T145927Z
UID:4006-1776355200-1776366000@kiju-mainhausen.de
SUMMARY:Jugendtreff
DESCRIPTION:Offener Jugendtreff Mainhausen\nDer Jugendtreff Mainhausen findet ab sofort wieder wöchentlich donnerstags ab 15:00 Uhr statt. \nWann? Donnerstags\, ab 15:00 UhrWo?📍 Zellhausen: Altes Rathaus\, Rathausstraße 2 \nDer offene Jugendtreff der Gemeinde Mainhausen bietet Raum zum Entspannen\, Austauschen und Ausprobieren. Ob Gespräche mit Freundinnen und Freunden\, neue Interessen entdecken oder einfach gemeinsam Zeit verbringen – alle sind herzlich willkommen. \nAls offenes Angebot der Gemeinde Mainhausen bietet der Jugendtreff Raum zum Austausch\, zur Freizeitgestaltung und zur persönlichen Entfaltung. Ob Gespräche mit Freundinnen und Freunden\, neue Interessen entdecken oder einfach gemeinsam Zeit verbringen.\nAlle sind herzlich willkommen.Ihr könnt jederzeit ohne Anmeldung vorbeikommen! \nDarüber hinaus finden regelmäßig thematische Angebote statt\, die ihr selbst mitbestimmen und aktiv mitgestalten könnt. \nWir freuen uns auf euch!
URL:https://kiju-mainhausen.de/veranstaltung/jugendtreff/2026-04-16
LOCATION:Altes Rathaus Zellhausen\, Rathausstraße 2\, Mainhausen\, 63533\, Deutschland
CATEGORIES:Angebote ab 12 Jahre,offenes Angebot
ORGANIZER;CN="Gemeinde%20Mainhausen":MAILTO:jugend@mainhausen.de
END:VEVENT
BEGIN:VEVENT
DTSTART;TZID=Europe/Berlin:20260409T160000
DTEND;TZID=Europe/Berlin:20260409T190000
DTSTAMP:20260419T160756
CREATED:20250130T145927Z
LAST-MODIFIED:20260415T091249Z
UID:2811-1775750400-1775761200@kiju-mainhausen.de
SUMMARY:Jugendtreff
DESCRIPTION:Offener Jugendtreff Mainhausen\nDer Jugendtreff Mainhausen findet ab sofort wieder wöchentlich donnerstags ab 15:00 Uhr statt. \nWann? Donnerstags\, ab 15:00 UhrWo?📍 Zellhausen: Altes Rathaus\, Rathausstraße 2 \nDer offene Jugendtreff der Gemeinde Mainhausen bietet Raum zum Entspannen\, Austauschen und Ausprobieren. Ob Gespräche mit Freundinnen und Freunden\, neue Interessen entdecken oder einfach gemeinsam Zeit verbringen – alle sind herzlich willkommen. \nAls offenes Angebot der Gemeinde Mainhausen bietet der Jugendtreff Raum zum Austausch\, zur Freizeitgestaltung und zur persönlichen Entfaltung. Ob Gespräche mit Freundinnen und Freunden\, neue Interessen entdecken oder einfach gemeinsam Zeit verbringen.\nAlle sind herzlich willkommen.Ihr könnt jederzeit ohne Anmeldung vorbeikommen! \nDarüber hinaus finden regelmäßig thematische Angebote statt\, die ihr selbst mitbestimmen und aktiv mitgestalten könnt. \nWir freuen uns auf euch!
URL:https://kiju-mainhausen.de/veranstaltung/jugendtreff/2026-04-09
LOCATION:Altes Rathaus Zellhausen\, Rathausstraße 2\, Mainhausen\, 63533\, Deutschland
CATEGORIES:Angebote ab 12 Jahre,offenes Angebot
ORGANIZER;CN="Gemeinde%20Mainhausen":MAILTO:jugend@mainhausen.de
END:VEVENT
END:VCALENDAR